BEGIN:VCALENDAR
VERSION:2.0
PRODID:-//eventon.com NONSGML v1.0//EN
BEGIN:VEVENT
UID:69e7428bf04c7
DTSTAMP:20260421T092531
DTSTART:20251126T213000Z
DTEND:20251126T224000Z
TZID:Europe/Lisbon
LOCATION:Casa da Cultura de Paredes Av. da Republica 207\,  4580-193 Paredes
SUMMARY:A FEIRA
DESCRIPTION: Em Auto da Feira\,  Gil Vicente convida-nos para uma feira nunca vista\,  onde se misturam figuras de mundos diferentes: deuses greco-romanos\,  conceitos\,  símbolos\,  diabos e anjos\,  camponeses. Esta não é uma feira qualquer\,  aqui tudo se compra\,  vende ou troca — virtudes\,  truques\,  mulheres e favores — num espaço simbólico[..]\nhttps://adescampado.org/events/a-feira/
URL:https://adescampado.org/events/a-feira/
END:VEVENT
END:VCALENDAR