BEGIN:VCALENDAR
VERSION:2.0
PRODID:-//eventon.com NONSGML v1.0//EN
BEGIN:VEVENT
UID:69e743acdabfa
DTSTAMP:20260421T093020
DTSTART:20250624
DTEND:20250628
TZID:Europe/Lisbon
LOCATION:
SUMMARY:IV Feira Ibérica de Teatro do Fundão
DESCRIPTION: A Feira Ibérica de Teatro do Fundão procura promover intercâmbios comerciais entre Companhias e gestores culturais\,  portugueses e espanhóis\,  como oportunidade de dinamização da actividade do teatro no mercado cultural ibérico. Numa perspectiva estratégica comum\,  procura-se fomentar um verdadeiro (e mais que necessário) “mercado ibérico”\,  através de uma programação de[..]\nhttps://adescampado.org/events/iv-feira-iberica-de-teatro-do-fundao/
URL:https://adescampado.org/events/iv-feira-iberica-de-teatro-do-fundao/
END:VEVENT
END:VCALENDAR