BEGIN:VCALENDAR
VERSION:2.0
PRODID:-//eventon.com NONSGML v1.0//EN
BEGIN:VEVENT
UID:69e72f2c9ac68
DTSTAMP:20260421T080252
DTSTART:20250410T203000Z
DTEND:20250413T165000Z
TZID:Europe/Lisbon
LOCATION:Auditório da Moagem Largo da Estação 8
SUMMARY:VIRAR DO AVESSO
DESCRIPTION: Na hora de comprar o que vem primeiro: o que queremos ou o que precisamos? Será que compramos tudo o que precisamos? Será que precisamos realmente de tudo o que compramos? E será que faz diferença para o mundo se eu comprar mais uma coisa? Sim\,  faz! Depende do que[..]\nhttps://adescampado.org/events/virar-do-avesso/
URL:https://adescampado.org/events/virar-do-avesso/
END:VEVENT
END:VCALENDAR