BEGIN:VCALENDAR
VERSION:2.0
PRODID:-//eventon.com NONSGML v1.0//EN
BEGIN:VEVENT
UID:69e72f520d940
DTSTAMP:20260421T080330
DTSTART:20250221T095800Z
DTEND:20250221T095800Z
TZID:Europe/Lisbon
LOCATION:Fábrica das Ideias R. Prior Guerra\,  3830-711 Gafanha da Nazaré
SUMMARY:Dilema Capital - 7 pecados na vida inusitada dos artistas (a partir de Brecht)
DESCRIPTION: Uma vida melhor é a aspiração natural que conduz o indivíduo a batalhar por um desafogo material\,  muitas vezes identificando o seu status social\,  e mesmo o modo como se vê\,  com o que possui. A vida artística parece fugir a esta construção\,  uma vez que o autor é um[..]\nhttps://adescampado.org/events/dilema-capital-7-pecados-na-vida-inusitada-dos-artistas-a-partir-de-brecht/
URL:https://adescampado.org/events/dilema-capital-7-pecados-na-vida-inusitada-dos-artistas-a-partir-de-brecht/
END:VEVENT
END:VCALENDAR