BEGIN:VCALENDAR
VERSION:2.0
PRODID:-//eventon.com NONSGML v1.0//EN
BEGIN:VEVENT
UID:69e72f66b3cf3
DTSTAMP:20260421T080350
DTSTART:20241205T200000Z
DTEND:20241205T211000Z
TZID:Europe/Lisbon
LOCATION:
SUMMARY:OS MOSQU3TEIROS
DESCRIPTION: OS MOSQU3TEIROS\,  relata as aventuras de D´Artagnan\,  um jovem impetuoso e propenso à luta\,  na sua demanda para se tornar num dos célebres mosqueteiros que protegem o rei Luís XIII e a França de todo e qualquer perigo. No seu percurso\,  acaba por esbarrar em Athos\,  um alcoólatra\,  Aramis\,  um[..]\nhttps://adescampado.org/events/os-mosqu3teiros-5/
URL:https://adescampado.org/events/os-mosqu3teiros-5/
END:VEVENT
END:VCALENDAR