BEGIN:VCALENDAR
VERSION:2.0
PRODID:-//eventon.com NONSGML v1.0//EN
BEGIN:VEVENT
UID:69e72efc7fbd0
DTSTAMP:20260421T080204
DTSTART:20241110T180000Z
DTEND:20241110T192000Z
TZID:Europe/Lisbon
LOCATION:Cineteatro dos Bombeiros Voluntários de Vila Praia de Âncora Rua 5 de Outubro 122\,  4910-386 - Vila Praia de Âncora
SUMMARY:Sob a Terra
DESCRIPTION: Apesar de SOB A TERRA procurar sensibilizar as pessoas para o problema urgente que são os incêndios e chamar a atenção para a realização de boas práticas na utilização do fogo\,  para a proteção e valorização da floresta\,  este espetáculo é a história de uma aldeia contada em três capítulos.[..]\nhttps://adescampado.org/events/sob-a-terra-8/
URL:https://adescampado.org/events/sob-a-terra-8/
END:VEVENT
END:VCALENDAR