BEGIN:VCALENDAR
VERSION:2.0
PRODID:-//eventon.com NONSGML v1.0//EN
BEGIN:VEVENT
UID:69e72efc74277
DTSTAMP:20260421T080204
DTSTART:20241011T170000Z
DTEND:20241011T174000Z
TZID:Europe/Lisbon
LOCATION:
SUMMARY:CIRCU_NSTÂNCIA
DESCRIPTION: Um espetáculo de marionetas de fios num ambiente de circo\,  onde se mostra que o caminho é feito de conquistas\,  de dificuldades\,  mas com perseverança se vai moldando o caminho de cada pessoa. Primeiro o equilíbrio\,  depois a caracterização de palhaço\,  seguido do malabarismo até chegar ao contorcionismo\,  funambulismo… eis[..]\nhttps://adescampado.org/events/circu_nstancia/
URL:https://adescampado.org/events/circu_nstancia/
END:VEVENT
END:VCALENDAR