BEGIN:VCALENDAR
VERSION:2.0
PRODID:-//eventon.com NONSGML v1.0//EN
BEGIN:VEVENT
UID:69e604cc7ce47
DTSTAMP:20260420T104948
DTSTART:20240501T140000Z
DTEND:20240501T142000Z
TZID:Europe/Lisbon
LOCATION:Praça da República de Vila Praia de Âncora 
SUMMARY:Estórias Floridas
DESCRIPTION: Dois vendedores ambulantes disputam por clientes na Praça da República enquanto partilham as suas aventuras em busca de flores detentoras dos mais variados poderes. Entre risadas e arremessos\,  estes charlatães entretêm a sua plateia com as farsas mais inacreditáveis\,  proporcionando uma sessão de vendas absolutamente inédita e plena de comicidade.[..]\nhttps://adescampado.org/events/estorias-floridas/
URL:https://adescampado.org/events/estorias-floridas/
END:VEVENT
END:VCALENDAR