BEGIN:VCALENDAR
VERSION:2.0
PRODID:-//eventon.com NONSGML v1.0//EN
BEGIN:VEVENT
UID:69e63231751c7
DTSTAMP:20260420T140329
DTSTART:20230901T203000Z
DTEND:20230901T225000Z
TZID:Europe/Lisbon
LOCATION:New Hand Lab Rua Mateus Fernandes - Travessa do Ranito
SUMMARY:SPECTRUM
DESCRIPTION: Etimologicamente deriva do latim\,  significa &#8220;visão&#8221;\,  &#8220;fantasma&#8221; ou &#8220;aparência&#8221;. Em SPECTRUM pretende-se criar um espaço virtual\,  uma realidade paralela\,  um campo onírico\,  onde a tecnologia atual se cruza com a arqueologia dos media\,  tirando partido das suas potencialidades para criar um espaço coreográfico performativo multimédia. SPECTRUM ASTA Teatro 1 e[..]\nhttps://adescampado.org/events/spectrum/
URL:https://adescampado.org/events/spectrum/
END:VEVENT
END:VCALENDAR