BEGIN:VCALENDAR
VERSION:2.0
PRODID:-//eventon.com NONSGML v1.0//EN
BEGIN:VEVENT
UID:69e72f2c9b2d2
DTSTAMP:20260421T080252
DTSTART:20230422T200000Z
DTEND:20230422T210000Z
TZID:Europe/Lisbon
LOCATION:Teatro Ibérico Rua de Xabregas_ nº 54\,  Lisboa
SUMMARY:"Uma Pátria à Procura de Portugal"
DESCRIPTION: Daninho\,  como erva daninha\,  é dizimado e ressurge ciclicamente com nomes diferentes: Pina Manique\,  William Beresford\,  D. Miguel\,  João Franco\,  Pimenta de Castro\,  Sidónio Pais\,  Salazar e Marcelo Caetano. Ora meloso ora violento\,  tenta convencer o Povo proferindo discursos concebidos a partir de leis e discursos históricos. O Povo ouve.[..]\nhttps://adescampado.org/events/uma-patria-a-procura-de-portugal/
URL:https://adescampado.org/events/uma-patria-a-procura-de-portugal/
END:VEVENT
END:VCALENDAR