BEGIN:VCALENDAR
VERSION:2.0
PRODID:-//eventon.com NONSGML v1.0//EN
BEGIN:VEVENT
UID:69e601455de6a
DTSTAMP:20260420T103445
DTSTART:20230129T180000Z
DTEND:20230129T193000Z
TZID:Europe/Lisbon
LOCATION:Cineteatro Alba Alameda 5 de Outubro
SUMMARY:SOB A TERRA
DESCRIPTION: Absurdamente donos do seu nariz\,  estas figuras só se preocupam com o que é seu. Quebrar rotinas e comportamentos de risco é uma ilusão nesta aldeia. A irresponsabilidade e a ignorância impera\,  mesmo quando há quem procura chamar a atenção face ao perigo. Aqui\,  nada é natural\,  só o comportamento[..]\nhttps://adescampado.org/events/sob-a-terra-4/
URL:https://adescampado.org/events/sob-a-terra-4/
END:VEVENT
END:VCALENDAR