BEGIN:VCALENDAR
VERSION:2.0
PRODID:-//eventon.com NONSGML v1.0//EN
BEGIN:VEVENT
UID:69e9f6b7619ef
DTSTAMP:20260423T103847
DTSTART:20220904T170000Z
DTEND:20220904T174000Z
TZID:Europe/Lisbon
LOCATION:Montemor-o-Novo 
SUMMARY:"Tatá & Totó e Histórias de Ratos"
DESCRIPTION: Tatá encontrou um tesouro\,  o que desperta a cobiça dos outros animais. Todos pretendem casar com ela\,  mas só Totó dá valor ao verdadeiro achado de Tatá: um livro de histórias. Esta peça fala de livros\,  de bibliotecas\,  da importância de ler e ouvir histórias. O maior tesouro do mundo[..]\nhttps://adescampado.org/events/tata-toto-e-historias-de-ratos/
URL:https://adescampado.org/events/tata-toto-e-historias-de-ratos/
END:VEVENT
END:VCALENDAR