BEGIN:VCALENDAR
VERSION:2.0
PRODID:-//eventon.com NONSGML v1.0//EN
BEGIN:VEVENT
UID:69e72f520bc2b
DTSTAMP:20260421T080330
DTSTART:20220422T203000Z
DTEND:20220422T213700Z
TZID:Europe/Lisbon
LOCATION:Cineteatro de Torres Vedras Avenida Tenente Valadim 19
SUMMARY:O Fim do Fim
DESCRIPTION: O fim assalta-nos. O fim de todas as coisas que nos deixaram\,  que aprendemos\,  que construímos parece eminente. Vivemos a angústia do fim como quem sobe uma montanha. E uma montanha é um buraco virado do avesso. Se caminharmos pelo avesso de uma montanha percorremos um buraco de ponta a[..]\nhttps://adescampado.org/events/o-fim-do-fim/
URL:https://adescampado.org/events/o-fim-do-fim/
END:VEVENT
END:VCALENDAR